BEGIN:VCALENDAR
VERSION:2.0
PRODID:-//Writers Festival//Event//EN
CALSCALE:GREGORIAN
METHOD:PUBLISH
BEGIN:VEVENT
UID:wf-69e8882bc5e016.25939710@writersfestival.ca
DTSTAMP:20260422T043451
DTSTART;TZID=America/Toronto:20250204T193000
DTEND;TZID=America/Toronto:20250204T210000
SUMMARY:Writers Festival: Carleton University Presents: Munro Beattie Lecture
LOCATION:Carleton Dominion Chalmers Centre\, 355 Cooper St.
END:VEVENT
END:VCALENDAR