BEGIN:VCALENDAR
VERSION:2.0
PRODID:-//Writers Festival//Event//EN
CALSCALE:GREGORIAN
METHOD:PUBLISH
BEGIN:VEVENT
UID:wf-69e8fff677e1c6.66745403@writersfestival.ca
DTSTAMP:20260422T130558
DTSTART;TZID=America/Toronto:20150423T173000
DTEND;TZID=America/Toronto:20150423T190000
SUMMARY:Writers Festival: Carleton University presents Andrew Cohen
LOCATION:Irene’s Pub\, 885 Bank St.
END:VEVENT
END:VCALENDAR