BEGIN:VCALENDAR
VERSION:2.0
PRODID:-//Writers Festival//Event//EN
CALSCALE:GREGORIAN
METHOD:PUBLISH
BEGIN:VEVENT
UID:wf-69e73971980273.60407114@writersfestival.ca
DTSTAMP:20260421T044641
DTSTART;TZID=America/Toronto:20220628T120000
DTEND;TZID=America/Toronto:20220628T133000
SUMMARY:Writers Festival: But the sun
LOCATION:
END:VEVENT
END:VCALENDAR