BEGIN:VCALENDAR
VERSION:2.0
PRODID:-//Writers Festival//Event//EN
CALSCALE:GREGORIAN
METHOD:PUBLISH
BEGIN:VEVENT
UID:wf-69e7672dca0196.54705101@writersfestival.ca
DTSTAMP:20260421T080149
DTSTART;TZID=America/Toronto:20150809T150000
DTEND;TZID=America/Toronto:20150809T163000
SUMMARY:Writers Festival: Book Launch: His Whole Lifewith Elizabeth Hay
LOCATION:Horticulture Building\, Lansdowne Park  
END:VEVENT
END:VCALENDAR