BEGIN:VCALENDAR
VERSION:2.0
PRODID:-//Writers Festival//Event//EN
CALSCALE:GREGORIAN
METHOD:PUBLISH
BEGIN:VEVENT
UID:wf-69e73e3ae61461.00712448@writersfestival.ca
DTSTAMP:20260421T050706
DTSTART;TZID=America/Toronto:20171128T190000
DTEND;TZID=America/Toronto:20171128T203000
SUMMARY:Writers Festival: Book Launch: Game Change with Ken Dryden
LOCATION:Library and Archives Canada\, 395 Wellington st.
END:VEVENT
END:VCALENDAR