BEGIN:VCALENDAR
VERSION:2.0
PRODID:-//Writers Festival//Event//EN
CALSCALE:GREGORIAN
METHOD:PUBLISH
BEGIN:VEVENT
UID:wf-69e766fc812e73.85836947@writersfestival.ca
DTSTAMP:20260421T080100
DTSTART;TZID=America/Toronto:20181001T190000
DTEND;TZID=America/Toronto:20181001T203000
SUMMARY:Writers Festival: Book Launch: All Things Consoled with Elizabeth Hay
LOCATION:Library and Archives Canada\, 395 Wellington St.
END:VEVENT
END:VCALENDAR