BEGIN:VCALENDAR
VERSION:2.0
PRODID:-//Writers Festival//Event//EN
CALSCALE:GREGORIAN
METHOD:PUBLISH
BEGIN:VEVENT
UID:wf-69e78709be6f05.48685686@writersfestival.ca
DTSTAMP:20260421T101745
DTSTART;TZID=America/Toronto:20221019T183000
DTEND;TZID=America/Toronto:20221019T200000
SUMMARY:Writers Festival: Becoming Kin
LOCATION:Christ Church Cathedral\, 414 Sparks St.
END:VEVENT
END:VCALENDAR