BEGIN:VCALENDAR
VERSION:2.0
PRODID:-//Writers Festival//Event//EN
CALSCALE:GREGORIAN
METHOD:PUBLISH
BEGIN:VEVENT
UID:wf-69e88ab0a88f50.36893434@writersfestival.ca
DTSTAMP:20260422T044536
DTSTART;TZID=America/Toronto:20141113T190000
DTEND;TZID=America/Toronto:20141113T203000
SUMMARY:Writers Festival: Adult Onsetwith Ann-Marie MacDonald
LOCATION:Centretown United Church\, 507 Bank St.
END:VEVENT
END:VCALENDAR