BEGIN:VCALENDAR
VERSION:2.0
PRODID:-//Writers Festival//Event//EN
CALSCALE:GREGORIAN
METHOD:PUBLISH
BEGIN:VEVENT
UID:wf-69e88a4ab3a438.33706098@writersfestival.ca
DTSTAMP:20260422T044354
DTSTART;TZID=America/Toronto:20220517T120000
DTEND;TZID=America/Toronto:20220517T133000
SUMMARY:Writers Festival: Animal Person
LOCATION:
END:VEVENT
END:VCALENDAR