BEGIN:VCALENDAR
VERSION:2.0
PRODID:-//Writers Festival//Event//EN
CALSCALE:GREGORIAN
METHOD:PUBLISH
BEGIN:VEVENT
UID:wf-69e7662a586cc6.72787166@writersfestival.ca
DTSTAMP:20260421T075730
DTSTART;TZID=America/Toronto:20110428T083000
DTEND;TZID=America/Toronto:20110428T100000
SUMMARY:Writers Festival: Alone in the Classroom: One on One with Elizabeth Hay
LOCATION:
END:VEVENT
END:VCALENDAR