BEGIN:VCALENDAR
VERSION:2.0
PRODID:-//Writers Festival//Event//EN
CALSCALE:GREGORIAN
METHOD:PUBLISH
BEGIN:VEVENT
UID:wf-69e73927981a86.59143976@writersfestival.ca
DTSTAMP:20260421T044527
DTSTART;TZID=America/Toronto:20221209T120000
DTEND;TZID=America/Toronto:20221209T133000
SUMMARY:Writers Festival: Almost Visible
LOCATION:
END:VEVENT
END:VCALENDAR