BEGIN:VCALENDAR
VERSION:2.0
PRODID:-//Writers Festival//Event//EN
CALSCALE:GREGORIAN
METHOD:PUBLISH
BEGIN:VEVENT
UID:wf-69e77085ae9a31.24647932@writersfestival.ca
DTSTAMP:20260421T084141
DTSTART;TZID=America/Toronto:20110921T190000
DTEND;TZID=America/Toronto:20110921T203000
SUMMARY:Writers Festival: Allah\, Liberty & Love  With Irshad Manji
LOCATION:
END:VEVENT
END:VCALENDAR