BEGIN:VCALENDAR
VERSION:2.0
PRODID:-//Writers Festival//Event//EN
CALSCALE:GREGORIAN
METHOD:PUBLISH
BEGIN:VEVENT
UID:wf-69e77242c1cd75.64144550@writersfestival.ca
DTSTAMP:20260421T084906
DTSTART;TZID=America/Toronto:20221026T193000
DTEND;TZID=America/Toronto:20221026T210000
SUMMARY:Writers Festival: Abolitionist Intimacies
LOCATION:Christ Church Cathedral\, 414 Sparks St.
END:VEVENT
END:VCALENDAR