BEGIN:VCALENDAR
VERSION:2.0
PRODID:-//Writers Festival//Event//EN
CALSCALE:GREGORIAN
METHOD:PUBLISH
BEGIN:VEVENT
UID:wf-69e767aab47917.68823631@writersfestival.ca
DTSTAMP:20260421T080354
DTSTART;TZID=America/Toronto:20171022T160000
DTEND;TZID=America/Toronto:20171022T173000
SUMMARY:Writers Festival: A Reporter's Journey into the Lives of Others  with Carol Off
LOCATION:Christ Church Cathedral\, 414 Sparks St.
END:VEVENT
END:VCALENDAR