BEGIN:VCALENDAR
VERSION:2.0
PRODID:-//Writers Festival//Event//EN
CALSCALE:GREGORIAN
METHOD:PUBLISH
BEGIN:VEVENT
UID:wf-69e50450e930d3.49453311@writersfestival.ca
DTSTAMP:20260419T123528
DTSTART;TZID=America/Toronto:20170616T190000
DTEND;TZID=America/Toronto:20170616T203000
SUMMARY:Writers Festival: A Great Reckoning with Louise Penny
LOCATION:Southminster United Church\, 15 Aylmer Ave.
END:VEVENT
END:VCALENDAR