BEGIN:VCALENDAR
VERSION:2.0
PRODID:-//Writers Festival//Event//EN
CALSCALE:GREGORIAN
METHOD:PUBLISH
BEGIN:VEVENT
UID:wf-69e78615b3c2e2.93500256@writersfestival.ca
DTSTAMP:20260421T101341
DTSTART;TZID=America/Toronto:20161023T140000
DTEND;TZID=America/Toronto:20161023T153000
SUMMARY:Writers Festival: A Canadian Soldier's Fight Against the Islamic State  with Dillon Hillier
LOCATION:Christ Church Cathedral\, 414 Sparks Street
END:VEVENT
END:VCALENDAR