BEGIN:VCALENDAR
VERSION:2.0
PRODID:-//Writers Festival//Event//EN
CALSCALE:GREGORIAN
METHOD:PUBLISH
BEGIN:VEVENT
UID:wf-69e751967fb261.97865999@writersfestival.ca
DTSTAMP:20260421T062942
DTSTART;TZID=America/Toronto:20230216T120100
DTEND;TZID=America/Toronto:20230216T133100
SUMMARY:Writers Festival: 6. Teaching in the Anthropocene
LOCATION:
END:VEVENT
END:VCALENDAR