BEGIN:VCALENDAR
VERSION:2.0
PRODID:-//Writers Festival//Event//EN
CALSCALE:GREGORIAN
METHOD:PUBLISH
BEGIN:VEVENT
UID:wf-69e75168035c63.98406270@writersfestival.ca
DTSTAMP:20260421T062856
DTSTART;TZID=America/Toronto:20230209T120000
DTEND;TZID=America/Toronto:20230209T133000
SUMMARY:Writers Festival: 3. Teaching in the Anthropocene
LOCATION:
END:VEVENT
END:VCALENDAR