BEGIN:VCALENDAR
VERSION:2.0
PRODID:-//Writers Festival//Event//EN
CALSCALE:GREGORIAN
METHOD:PUBLISH
BEGIN:VEVENT
UID:wf-69e7519592b1e8.94577483@writersfestival.ca
DTSTAMP:20260421T062941
DTSTART;TZID=America/Toronto:20200321T190000
DTEND;TZID=America/Toronto:20200321T203000
SUMMARY:Writers Festival: POSTPONED: 2020 Munro Beattie lecture 
LOCATION:Carleton Dominion-Chalmers Centre\,  355 Cooper St.
END:VEVENT
END:VCALENDAR