BEGIN:VCALENDAR
VERSION:2.0
PRODID:-//Writers Festival//Event//EN
CALSCALE:GREGORIAN
METHOD:PUBLISH
BEGIN:VEVENT
UID:wf-69e78430b58024.62959571@writersfestival.ca
DTSTAMP:20260421T100536
DTSTART;TZID=America/Toronto:20180329T190000
DTEND;TZID=America/Toronto:20180329T203000
SUMMARY:Writers Festival: à la carte:
LOCATION:Library and Archives Canada\, 395 Wellington Street
END:VEVENT
END:VCALENDAR